BEGIN:VCALENDAR
VERSION:2.0
PRODID:https://www.kufer.de/kuferweb / DE
METHOD:PUBLISH
CALSCALE:GREGORIAN
X-WR-TIMEZONE:Europe/Berlin
BEGIN:VTIMEZONE
TZID:Europe/Berlin
X-LIC-LOCATION:Europe/Berlin
BEGIN:DAYLIGHT
TZOFFSETFROM:+0100
TZOFFSETTO:+0200
TZNAME:CEST
DTSTART:19700329T020000
RRULE:FREQ=YEARLY;INTERVAL=1;BYDAY=-1SU;BYMONTH=3
END:DAYLIGHT
BEGIN:STANDARD
TZOFFSETFROM:+0200
TZOFFSETTO:+0100
TZNAME:CET
DTSTART:19701025T030000
RRULE:FREQ=YEARLY;INTERVAL=1;BYDAY=-1SU;BYMONTH=10
END:STANDARD
END:VTIMEZONE
BEGIN:VEVENT
DTSTAMP:20260420T065527
DTSTART;TZID=Europe/Berlin:20260518T090000
DTEND;TZID=Europe/Berlin:20260518T160000
UID:D00000011-20260518T090000@KVHSVIERSEN
DESCRIPTION:zusätzliche gewünschte Ausstattung:  - HDMI Kabel - WLAN (wenn möglich zum Abspielen von Videos aus dem Internet) - falls es unkompliziert räumliche Ausweichmöglichkeiten für Gruppenarbeiten gibt, wäre das willkommen
SUMMARY:Beziehungs- und Interaktionsgestaltung bei Entwicklungsverzögerungen und Verhaltensbesonderheiten in Kitas: Konkrete Hilfestellungen für den päd. Alltag (D00000011) 
LOCATION:TZN Kempen, Kunstraum 1.74 - 1.75 B, Industriering Ost 66, 47906 Kempen
END:VEVENT
END:VCALENDAR