BEGIN:VCALENDAR
VERSION:2.0
PRODID:https://www.kufer.de/kuferweb / DE
METHOD:PUBLISH
CALSCALE:GREGORIAN
X-WR-TIMEZONE:Europe/Berlin
BEGIN:VTIMEZONE
TZID:Europe/Berlin
X-LIC-LOCATION:Europe/Berlin
BEGIN:DAYLIGHT
TZOFFSETFROM:+0100
TZOFFSETTO:+0200
TZNAME:CEST
DTSTART:19700329T020000
RRULE:FREQ=YEARLY;INTERVAL=1;BYDAY=-1SU;BYMONTH=3
END:DAYLIGHT
BEGIN:STANDARD
TZOFFSETFROM:+0200
TZOFFSETTO:+0100
TZNAME:CET
DTSTART:19701025T030000
RRULE:FREQ=YEARLY;INTERVAL=1;BYDAY=-1SU;BYMONTH=10
END:STANDARD
END:VTIMEZONE
BEGIN:VEVENT
DTSTAMP:20260421T160146
DTSTART;TZID=Europe/Berlin:20260822T100000
DTEND;TZID=Europe/Berlin:20260822T130000
UID:D362511-20260822T100000@KVHSVIERSEN
SUMMARY:Grundlagen Pages, Numbers und Keynote am eigenen MacBook erlernen (D362511) 
LOCATION:TZN Kempen, EDV-Raum 1.81 - 1.82 B, Industriering Ost 66, 47906 Kempen
END:VEVENT
BEGIN:VEVENT
DTSTAMP:20260421T160146
DTSTART;TZID=Europe/Berlin:20260829T100000
DTEND;TZID=Europe/Berlin:20260829T130000
UID:D362511-20260829T100000@KVHSVIERSEN
SUMMARY:Grundlagen Pages, Numbers und Keynote am eigenen MacBook erlernen (D362511) 
LOCATION:TZN Kempen, EDV-Raum 1.81 - 1.82 B, Industriering Ost 66, 47906 Kempen
END:VEVENT
BEGIN:VEVENT
DTSTAMP:20260421T160146
DTSTART;TZID=Europe/Berlin:20260905T100000
DTEND;TZID=Europe/Berlin:20260905T130000
UID:D362511-20260905T100000@KVHSVIERSEN
SUMMARY:Grundlagen Pages, Numbers und Keynote am eigenen MacBook erlernen (D362511) 
LOCATION:TZN Kempen, EDV-Raum 1.81 - 1.82 B, Industriering Ost 66, 47906 Kempen
END:VEVENT
END:VCALENDAR