BEGIN:VCALENDAR
VERSION:2.0
PRODID:https://www.kufer.de/kuferweb / DE
METHOD:PUBLISH
CALSCALE:GREGORIAN
X-WR-TIMEZONE:Europe/Berlin
BEGIN:VTIMEZONE
TZID:Europe/Berlin
X-LIC-LOCATION:Europe/Berlin
BEGIN:DAYLIGHT
TZOFFSETFROM:+0100
TZOFFSETTO:+0200
TZNAME:CEST
DTSTART:19700329T020000
RRULE:FREQ=YEARLY;INTERVAL=1;BYDAY=-1SU;BYMONTH=3
END:DAYLIGHT
BEGIN:STANDARD
TZOFFSETFROM:+0200
TZOFFSETTO:+0100
TZNAME:CET
DTSTART:19701025T030000
RRULE:FREQ=YEARLY;INTERVAL=1;BYDAY=-1SU;BYMONTH=10
END:STANDARD
END:VTIMEZONE
BEGIN:VEVENT
DTSTAMP:20260423T225514
DTSTART;TZID=Europe/Berlin:20260427T090000
DTEND;TZID=Europe/Berlin:20260427T130000
UID:D474111-20260427T090000@KVHSVIERSEN
SUMMARY:3. Modul - A2 (D474111) 
LOCATION:Begegnungszentrum Johannes-Hubertus-Haus, Hohenzollernplatz 19 c, 47906 Kempen-St. Hubert
END:VEVENT
BEGIN:VEVENT
DTSTAMP:20260423T225514
DTSTART;TZID=Europe/Berlin:20260428T090000
DTEND;TZID=Europe/Berlin:20260428T130000
UID:D474111-20260428T090000@KVHSVIERSEN
SUMMARY:3. Modul - A2 (D474111) 
LOCATION:Begegnungszentrum Johannes-Hubertus-Haus, Hohenzollernplatz 19 c, 47906 Kempen-St. Hubert
END:VEVENT
BEGIN:VEVENT
DTSTAMP:20260423T225514
DTSTART;TZID=Europe/Berlin:20260429T090000
DTEND;TZID=Europe/Berlin:20260429T130000
UID:D474111-20260429T090000@KVHSVIERSEN
SUMMARY:3. Modul - A2 (D474111) 
LOCATION:Begegnungszentrum Johannes-Hubertus-Haus, Hohenzollernplatz 19 c, 47906 Kempen-St. Hubert
END:VEVENT
BEGIN:VEVENT
DTSTAMP:20260423T225514
DTSTART;TZID=Europe/Berlin:20260430T090000
DTEND;TZID=Europe/Berlin:20260430T130000
UID:D474111-20260430T090000@KVHSVIERSEN
SUMMARY:3. Modul - A2 (D474111) 
LOCATION:Begegnungszentrum Johannes-Hubertus-Haus, Hohenzollernplatz 19 c, 47906 Kempen-St. Hubert
END:VEVENT
BEGIN:VEVENT
DTSTAMP:20260423T225514
DTSTART;TZID=Europe/Berlin:20260504T090000
DTEND;TZID=Europe/Berlin:20260504T130000
UID:D474111-20260504T090000@KVHSVIERSEN
SUMMARY:3. Modul - A2 (D474111) 
LOCATION:Begegnungszentrum Johannes-Hubertus-Haus, Hohenzollernplatz 19 c, 47906 Kempen-St. Hubert
END:VEVENT
BEGIN:VEVENT
DTSTAMP:20260423T225514
DTSTART;TZID=Europe/Berlin:20260505T090000
DTEND;TZID=Europe/Berlin:20260505T130000
UID:D474111-20260505T090000@KVHSVIERSEN
SUMMARY:3. Modul - A2 (D474111) 
LOCATION:Begegnungszentrum Johannes-Hubertus-Haus, Hohenzollernplatz 19 c, 47906 Kempen-St. Hubert
END:VEVENT
BEGIN:VEVENT
DTSTAMP:20260423T225514
DTSTART;TZID=Europe/Berlin:20260506T090000
DTEND;TZID=Europe/Berlin:20260506T130000
UID:D474111-20260506T090000@KVHSVIERSEN
SUMMARY:3. Modul - A2 (D474111) 
LOCATION:Begegnungszentrum Johannes-Hubertus-Haus, Hohenzollernplatz 19 c, 47906 Kempen-St. Hubert
END:VEVENT
BEGIN:VEVENT
DTSTAMP:20260423T225514
DTSTART;TZID=Europe/Berlin:20260507T090000
DTEND;TZID=Europe/Berlin:20260507T130000
UID:D474111-20260507T090000@KVHSVIERSEN
SUMMARY:3. Modul - A2 (D474111) 
LOCATION:Begegnungszentrum Johannes-Hubertus-Haus, Hohenzollernplatz 19 c, 47906 Kempen-St. Hubert
END:VEVENT
BEGIN:VEVENT
DTSTAMP:20260423T225514
DTSTART;TZID=Europe/Berlin:20260508T090000
DTEND;TZID=Europe/Berlin:20260508T130000
UID:D474111-20260508T090000@KVHSVIERSEN
SUMMARY:3. Modul - A2 (D474111) 
LOCATION:Begegnungszentrum Johannes-Hubertus-Haus, Hohenzollernplatz 19 c, 47906 Kempen-St. Hubert
END:VEVENT
BEGIN:VEVENT
DTSTAMP:20260423T225514
DTSTART;TZID=Europe/Berlin:20260511T090000
DTEND;TZID=Europe/Berlin:20260511T130000
UID:D474111-20260511T090000@KVHSVIERSEN
SUMMARY:3. Modul - A2 (D474111) 
LOCATION:Begegnungszentrum Johannes-Hubertus-Haus, Hohenzollernplatz 19 c, 47906 Kempen-St. Hubert
END:VEVENT
BEGIN:VEVENT
DTSTAMP:20260423T225514
DTSTART;TZID=Europe/Berlin:20260512T090000
DTEND;TZID=Europe/Berlin:20260512T130000
UID:D474111-20260512T090000@KVHSVIERSEN
SUMMARY:3. Modul - A2 (D474111) 
LOCATION:Begegnungszentrum Johannes-Hubertus-Haus, Hohenzollernplatz 19 c, 47906 Kempen-St. Hubert
END:VEVENT
BEGIN:VEVENT
DTSTAMP:20260423T225514
DTSTART;TZID=Europe/Berlin:20260513T090000
DTEND;TZID=Europe/Berlin:20260513T130000
UID:D474111-20260513T090000@KVHSVIERSEN
SUMMARY:3. Modul - A2 (D474111) 
LOCATION:Begegnungszentrum Johannes-Hubertus-Haus, Hohenzollernplatz 19 c, 47906 Kempen-St. Hubert
END:VEVENT
BEGIN:VEVENT
DTSTAMP:20260423T225514
DTSTART;TZID=Europe/Berlin:20260518T090000
DTEND;TZID=Europe/Berlin:20260518T130000
UID:D474111-20260518T090000@KVHSVIERSEN
SUMMARY:3. Modul - A2 (D474111) 
LOCATION:Begegnungszentrum Johannes-Hubertus-Haus, Hohenzollernplatz 19 c, 47906 Kempen-St. Hubert
END:VEVENT
BEGIN:VEVENT
DTSTAMP:20260423T225514
DTSTART;TZID=Europe/Berlin:20260519T090000
DTEND;TZID=Europe/Berlin:20260519T130000
UID:D474111-20260519T090000@KVHSVIERSEN
SUMMARY:3. Modul - A2 (D474111) 
LOCATION:Begegnungszentrum Johannes-Hubertus-Haus, Hohenzollernplatz 19 c, 47906 Kempen-St. Hubert
END:VEVENT
BEGIN:VEVENT
DTSTAMP:20260423T225514
DTSTART;TZID=Europe/Berlin:20260520T090000
DTEND;TZID=Europe/Berlin:20260520T130000
UID:D474111-20260520T090000@KVHSVIERSEN
SUMMARY:3. Modul - A2 (D474111) 
LOCATION:Begegnungszentrum Johannes-Hubertus-Haus, Hohenzollernplatz 19 c, 47906 Kempen-St. Hubert
END:VEVENT
BEGIN:VEVENT
DTSTAMP:20260423T225514
DTSTART;TZID=Europe/Berlin:20260521T090000
DTEND;TZID=Europe/Berlin:20260521T130000
UID:D474111-20260521T090000@KVHSVIERSEN
SUMMARY:3. Modul - A2 (D474111) 
LOCATION:Begegnungszentrum Johannes-Hubertus-Haus, Hohenzollernplatz 19 c, 47906 Kempen-St. Hubert
END:VEVENT
BEGIN:VEVENT
DTSTAMP:20260423T225514
DTSTART;TZID=Europe/Berlin:20260522T090000
DTEND;TZID=Europe/Berlin:20260522T130000
UID:D474111-20260522T090000@KVHSVIERSEN
SUMMARY:3. Modul - A2 (D474111) 
LOCATION:Begegnungszentrum Johannes-Hubertus-Haus, Hohenzollernplatz 19 c, 47906 Kempen-St. Hubert
END:VEVENT
BEGIN:VEVENT
DTSTAMP:20260423T225514
DTSTART;TZID=Europe/Berlin:20260527T090000
DTEND;TZID=Europe/Berlin:20260527T130000
UID:D474111-20260527T090000@KVHSVIERSEN
SUMMARY:3. Modul - A2 (D474111) 
LOCATION:Begegnungszentrum Johannes-Hubertus-Haus, Hohenzollernplatz 19 c, 47906 Kempen-St. Hubert
END:VEVENT
BEGIN:VEVENT
DTSTAMP:20260423T225514
DTSTART;TZID=Europe/Berlin:20260528T090000
DTEND;TZID=Europe/Berlin:20260528T130000
UID:D474111-20260528T090000@KVHSVIERSEN
SUMMARY:3. Modul - A2 (D474111) 
LOCATION:Begegnungszentrum Johannes-Hubertus-Haus, Hohenzollernplatz 19 c, 47906 Kempen-St. Hubert
END:VEVENT
BEGIN:VEVENT
DTSTAMP:20260423T225514
DTSTART;TZID=Europe/Berlin:20260529T090000
DTEND;TZID=Europe/Berlin:20260529T130000
UID:D474111-20260529T090000@KVHSVIERSEN
SUMMARY:3. Modul - A2 (D474111) 
LOCATION:Begegnungszentrum Johannes-Hubertus-Haus, Hohenzollernplatz 19 c, 47906 Kempen-St. Hubert
END:VEVENT
END:VCALENDAR