BEGIN:VCALENDAR
VERSION:2.0
PRODID:https://www.kufer.de/kuferweb / DE
METHOD:PUBLISH
CALSCALE:GREGORIAN
X-WR-TIMEZONE:Europe/Berlin
BEGIN:VTIMEZONE
TZID:Europe/Berlin
X-LIC-LOCATION:Europe/Berlin
BEGIN:DAYLIGHT
TZOFFSETFROM:+0100
TZOFFSETTO:+0200
TZNAME:CEST
DTSTART:19700329T020000
RRULE:FREQ=YEARLY;INTERVAL=1;BYDAY=-1SU;BYMONTH=3
END:DAYLIGHT
BEGIN:STANDARD
TZOFFSETFROM:+0200
TZOFFSETTO:+0100
TZNAME:CET
DTSTART:19701025T030000
RRULE:FREQ=YEARLY;INTERVAL=1;BYDAY=-1SU;BYMONTH=10
END:STANDARD
END:VTIMEZONE
BEGIN:VEVENT
DTSTAMP:20260424T015938
DTSTART;TZID=Europe/Berlin:20260602T090000
DTEND;TZID=Europe/Berlin:20260602T130000
UID:D475111-20260602T090000@KVHSVIERSEN
SUMMARY:4. Modul - A2 (D475111) 
LOCATION:Begegnungszentrum Johannes-Hubertus-Haus, Hohenzollernplatz 19 c, 47906 Kempen-St. Hubert
END:VEVENT
BEGIN:VEVENT
DTSTAMP:20260424T015938
DTSTART;TZID=Europe/Berlin:20260603T090000
DTEND;TZID=Europe/Berlin:20260603T130000
UID:D475111-20260603T090000@KVHSVIERSEN
SUMMARY:4. Modul - A2 (D475111) 
LOCATION:Begegnungszentrum Johannes-Hubertus-Haus, Hohenzollernplatz 19 c, 47906 Kempen-St. Hubert
END:VEVENT
BEGIN:VEVENT
DTSTAMP:20260424T015938
DTSTART;TZID=Europe/Berlin:20260608T090000
DTEND;TZID=Europe/Berlin:20260608T130000
UID:D475111-20260608T090000@KVHSVIERSEN
SUMMARY:4. Modul - A2 (D475111) 
LOCATION:Begegnungszentrum Johannes-Hubertus-Haus, Hohenzollernplatz 19 c, 47906 Kempen-St. Hubert
END:VEVENT
BEGIN:VEVENT
DTSTAMP:20260424T015938
DTSTART;TZID=Europe/Berlin:20260609T090000
DTEND;TZID=Europe/Berlin:20260609T130000
UID:D475111-20260609T090000@KVHSVIERSEN
SUMMARY:4. Modul - A2 (D475111) 
LOCATION:Begegnungszentrum Johannes-Hubertus-Haus, Hohenzollernplatz 19 c, 47906 Kempen-St. Hubert
END:VEVENT
BEGIN:VEVENT
DTSTAMP:20260424T015938
DTSTART;TZID=Europe/Berlin:20260610T090000
DTEND;TZID=Europe/Berlin:20260610T130000
UID:D475111-20260610T090000@KVHSVIERSEN
SUMMARY:4. Modul - A2 (D475111) 
LOCATION:Begegnungszentrum Johannes-Hubertus-Haus, Hohenzollernplatz 19 c, 47906 Kempen-St. Hubert
END:VEVENT
BEGIN:VEVENT
DTSTAMP:20260424T015938
DTSTART;TZID=Europe/Berlin:20260611T090000
DTEND;TZID=Europe/Berlin:20260611T130000
UID:D475111-20260611T090000@KVHSVIERSEN
SUMMARY:4. Modul - A2 (D475111) 
LOCATION:Begegnungszentrum Johannes-Hubertus-Haus, Hohenzollernplatz 19 c, 47906 Kempen-St. Hubert
END:VEVENT
BEGIN:VEVENT
DTSTAMP:20260424T015938
DTSTART;TZID=Europe/Berlin:20260612T090000
DTEND;TZID=Europe/Berlin:20260612T130000
UID:D475111-20260612T090000@KVHSVIERSEN
SUMMARY:4. Modul - A2 (D475111) 
LOCATION:Begegnungszentrum Johannes-Hubertus-Haus, Hohenzollernplatz 19 c, 47906 Kempen-St. Hubert
END:VEVENT
BEGIN:VEVENT
DTSTAMP:20260424T015938
DTSTART;TZID=Europe/Berlin:20260615T090000
DTEND;TZID=Europe/Berlin:20260615T130000
UID:D475111-20260615T090000@KVHSVIERSEN
SUMMARY:4. Modul - A2 (D475111) 
LOCATION:Begegnungszentrum Johannes-Hubertus-Haus, Hohenzollernplatz 19 c, 47906 Kempen-St. Hubert
END:VEVENT
BEGIN:VEVENT
DTSTAMP:20260424T015938
DTSTART;TZID=Europe/Berlin:20260616T090000
DTEND;TZID=Europe/Berlin:20260616T130000
UID:D475111-20260616T090000@KVHSVIERSEN
SUMMARY:4. Modul - A2 (D475111) 
LOCATION:Begegnungszentrum Johannes-Hubertus-Haus, Hohenzollernplatz 19 c, 47906 Kempen-St. Hubert
END:VEVENT
BEGIN:VEVENT
DTSTAMP:20260424T015938
DTSTART;TZID=Europe/Berlin:20260617T090000
DTEND;TZID=Europe/Berlin:20260617T130000
UID:D475111-20260617T090000@KVHSVIERSEN
SUMMARY:4. Modul - A2 (D475111) 
LOCATION:Begegnungszentrum Johannes-Hubertus-Haus, Hohenzollernplatz 19 c, 47906 Kempen-St. Hubert
END:VEVENT
BEGIN:VEVENT
DTSTAMP:20260424T015938
DTSTART;TZID=Europe/Berlin:20260618T090000
DTEND;TZID=Europe/Berlin:20260618T130000
UID:D475111-20260618T090000@KVHSVIERSEN
SUMMARY:4. Modul - A2 (D475111) 
LOCATION:Begegnungszentrum Johannes-Hubertus-Haus, Hohenzollernplatz 19 c, 47906 Kempen-St. Hubert
END:VEVENT
BEGIN:VEVENT
DTSTAMP:20260424T015938
DTSTART;TZID=Europe/Berlin:20260619T090000
DTEND;TZID=Europe/Berlin:20260619T130000
UID:D475111-20260619T090000@KVHSVIERSEN
SUMMARY:4. Modul - A2 (D475111) 
LOCATION:Begegnungszentrum Johannes-Hubertus-Haus, Hohenzollernplatz 19 c, 47906 Kempen-St. Hubert
END:VEVENT
BEGIN:VEVENT
DTSTAMP:20260424T015938
DTSTART;TZID=Europe/Berlin:20260622T090000
DTEND;TZID=Europe/Berlin:20260622T130000
UID:D475111-20260622T090000@KVHSVIERSEN
SUMMARY:4. Modul - A2 (D475111) 
LOCATION:Begegnungszentrum Johannes-Hubertus-Haus, Hohenzollernplatz 19 c, 47906 Kempen-St. Hubert
END:VEVENT
BEGIN:VEVENT
DTSTAMP:20260424T015938
DTSTART;TZID=Europe/Berlin:20260623T090000
DTEND;TZID=Europe/Berlin:20260623T130000
UID:D475111-20260623T090000@KVHSVIERSEN
SUMMARY:4. Modul - A2 (D475111) 
LOCATION:Begegnungszentrum Johannes-Hubertus-Haus, Hohenzollernplatz 19 c, 47906 Kempen-St. Hubert
END:VEVENT
BEGIN:VEVENT
DTSTAMP:20260424T015938
DTSTART;TZID=Europe/Berlin:20260624T090000
DTEND;TZID=Europe/Berlin:20260624T130000
UID:D475111-20260624T090000@KVHSVIERSEN
SUMMARY:4. Modul - A2 (D475111) 
LOCATION:Begegnungszentrum Johannes-Hubertus-Haus, Hohenzollernplatz 19 c, 47906 Kempen-St. Hubert
END:VEVENT
BEGIN:VEVENT
DTSTAMP:20260424T015938
DTSTART;TZID=Europe/Berlin:20260625T090000
DTEND;TZID=Europe/Berlin:20260625T130000
UID:D475111-20260625T090000@KVHSVIERSEN
SUMMARY:4. Modul - A2 (D475111) 
LOCATION:Begegnungszentrum Johannes-Hubertus-Haus, Hohenzollernplatz 19 c, 47906 Kempen-St. Hubert
END:VEVENT
BEGIN:VEVENT
DTSTAMP:20260424T015938
DTSTART;TZID=Europe/Berlin:20260626T090000
DTEND;TZID=Europe/Berlin:20260626T130000
UID:D475111-20260626T090000@KVHSVIERSEN
SUMMARY:4. Modul - A2 (D475111) 
LOCATION:Begegnungszentrum Johannes-Hubertus-Haus, Hohenzollernplatz 19 c, 47906 Kempen-St. Hubert
END:VEVENT
BEGIN:VEVENT
DTSTAMP:20260424T015938
DTSTART;TZID=Europe/Berlin:20260629T090000
DTEND;TZID=Europe/Berlin:20260629T130000
UID:D475111-20260629T090000@KVHSVIERSEN
SUMMARY:4. Modul - A2 (D475111) 
LOCATION:Begegnungszentrum Johannes-Hubertus-Haus, Hohenzollernplatz 19 c, 47906 Kempen-St. Hubert
END:VEVENT
BEGIN:VEVENT
DTSTAMP:20260424T015938
DTSTART;TZID=Europe/Berlin:20260630T090000
DTEND;TZID=Europe/Berlin:20260630T130000
UID:D475111-20260630T090000@KVHSVIERSEN
SUMMARY:4. Modul - A2 (D475111) 
LOCATION:Begegnungszentrum Johannes-Hubertus-Haus, Hohenzollernplatz 19 c, 47906 Kempen-St. Hubert
END:VEVENT
BEGIN:VEVENT
DTSTAMP:20260424T015938
DTSTART;TZID=Europe/Berlin:20260701T090000
DTEND;TZID=Europe/Berlin:20260701T130000
UID:D475111-20260701T090000@KVHSVIERSEN
SUMMARY:4. Modul - A2 (D475111) 
LOCATION:Begegnungszentrum Johannes-Hubertus-Haus, Hohenzollernplatz 19 c, 47906 Kempen-St. Hubert
END:VEVENT
END:VCALENDAR