BEGIN:VCALENDAR
VERSION:2.0
PRODID:https://www.kufer.de/kuferweb / DE
METHOD:PUBLISH
CALSCALE:GREGORIAN
X-WR-TIMEZONE:Europe/Berlin
BEGIN:VTIMEZONE
TZID:Europe/Berlin
X-LIC-LOCATION:Europe/Berlin
BEGIN:DAYLIGHT
TZOFFSETFROM:+0100
TZOFFSETTO:+0200
TZNAME:CEST
DTSTART:19700329T020000
RRULE:FREQ=YEARLY;INTERVAL=1;BYDAY=-1SU;BYMONTH=3
END:DAYLIGHT
BEGIN:STANDARD
TZOFFSETFROM:+0200
TZOFFSETTO:+0100
TZNAME:CET
DTSTART:19701025T030000
RRULE:FREQ=YEARLY;INTERVAL=1;BYDAY=-1SU;BYMONTH=10
END:STANDARD
END:VTIMEZONE
BEGIN:VEVENT
DTSTAMP:20260424T020044
DTSTART;TZID=Europe/Berlin:20260706T090000
DTEND;TZID=Europe/Berlin:20260706T130000
UID:D476311-20260706T090000@KVHSVIERSEN
SUMMARY:5. Modul - B1 (D476311) 
LOCATION:Begegnungszentrum Johannes-Hubertus-Haus, Hohenzollernplatz 19 c, 47906 Kempen-St. Hubert
END:VEVENT
BEGIN:VEVENT
DTSTAMP:20260424T020044
DTSTART;TZID=Europe/Berlin:20260707T090000
DTEND;TZID=Europe/Berlin:20260707T130000
UID:D476311-20260707T090000@KVHSVIERSEN
SUMMARY:5. Modul - B1 (D476311) 
LOCATION:Begegnungszentrum Johannes-Hubertus-Haus, Hohenzollernplatz 19 c, 47906 Kempen-St. Hubert
END:VEVENT
BEGIN:VEVENT
DTSTAMP:20260424T020044
DTSTART;TZID=Europe/Berlin:20260708T090000
DTEND;TZID=Europe/Berlin:20260708T130000
UID:D476311-20260708T090000@KVHSVIERSEN
SUMMARY:5. Modul - B1 (D476311) 
LOCATION:Begegnungszentrum Johannes-Hubertus-Haus, Hohenzollernplatz 19 c, 47906 Kempen-St. Hubert
END:VEVENT
BEGIN:VEVENT
DTSTAMP:20260424T020044
DTSTART;TZID=Europe/Berlin:20260709T090000
DTEND;TZID=Europe/Berlin:20260709T130000
UID:D476311-20260709T090000@KVHSVIERSEN
SUMMARY:5. Modul - B1 (D476311) 
LOCATION:Begegnungszentrum Johannes-Hubertus-Haus, Hohenzollernplatz 19 c, 47906 Kempen-St. Hubert
END:VEVENT
BEGIN:VEVENT
DTSTAMP:20260424T020044
DTSTART;TZID=Europe/Berlin:20260710T090000
DTEND;TZID=Europe/Berlin:20260710T130000
UID:D476311-20260710T090000@KVHSVIERSEN
SUMMARY:5. Modul - B1 (D476311) 
LOCATION:Begegnungszentrum Johannes-Hubertus-Haus, Hohenzollernplatz 19 c, 47906 Kempen-St. Hubert
END:VEVENT
BEGIN:VEVENT
DTSTAMP:20260424T020044
DTSTART;TZID=Europe/Berlin:20260713T090000
DTEND;TZID=Europe/Berlin:20260713T130000
UID:D476311-20260713T090000@KVHSVIERSEN
SUMMARY:5. Modul - B1 (D476311) 
LOCATION:Begegnungszentrum Johannes-Hubertus-Haus, Hohenzollernplatz 19 c, 47906 Kempen-St. Hubert
END:VEVENT
BEGIN:VEVENT
DTSTAMP:20260424T020044
DTSTART;TZID=Europe/Berlin:20260714T090000
DTEND;TZID=Europe/Berlin:20260714T130000
UID:D476311-20260714T090000@KVHSVIERSEN
SUMMARY:5. Modul - B1 (D476311) 
LOCATION:Begegnungszentrum Johannes-Hubertus-Haus, Hohenzollernplatz 19 c, 47906 Kempen-St. Hubert
END:VEVENT
BEGIN:VEVENT
DTSTAMP:20260424T020044
DTSTART;TZID=Europe/Berlin:20260715T090000
DTEND;TZID=Europe/Berlin:20260715T130000
UID:D476311-20260715T090000@KVHSVIERSEN
SUMMARY:5. Modul - B1 (D476311) 
LOCATION:Begegnungszentrum Johannes-Hubertus-Haus, Hohenzollernplatz 19 c, 47906 Kempen-St. Hubert
END:VEVENT
BEGIN:VEVENT
DTSTAMP:20260424T020044
DTSTART;TZID=Europe/Berlin:20260716T090000
DTEND;TZID=Europe/Berlin:20260716T130000
UID:D476311-20260716T090000@KVHSVIERSEN
SUMMARY:5. Modul - B1 (D476311) 
LOCATION:Begegnungszentrum Johannes-Hubertus-Haus, Hohenzollernplatz 19 c, 47906 Kempen-St. Hubert
END:VEVENT
BEGIN:VEVENT
DTSTAMP:20260424T020044
DTSTART;TZID=Europe/Berlin:20260717T090000
DTEND;TZID=Europe/Berlin:20260717T130000
UID:D476311-20260717T090000@KVHSVIERSEN
SUMMARY:5. Modul - B1 (D476311) 
LOCATION:Begegnungszentrum Johannes-Hubertus-Haus, Hohenzollernplatz 19 c, 47906 Kempen-St. Hubert
END:VEVENT
BEGIN:VEVENT
DTSTAMP:20260424T020044
DTSTART;TZID=Europe/Berlin:20260902T090000
DTEND;TZID=Europe/Berlin:20260902T130000
UID:D476311-20260902T090000@KVHSVIERSEN
SUMMARY:5. Modul - B1 (D476311) 
LOCATION:Begegnungszentrum Johannes-Hubertus-Haus, Hohenzollernplatz 19 c, 47906 Kempen-St. Hubert
END:VEVENT
BEGIN:VEVENT
DTSTAMP:20260424T020044
DTSTART;TZID=Europe/Berlin:20260903T090000
DTEND;TZID=Europe/Berlin:20260903T130000
UID:D476311-20260903T090000@KVHSVIERSEN
SUMMARY:5. Modul - B1 (D476311) 
LOCATION:Begegnungszentrum Johannes-Hubertus-Haus, Hohenzollernplatz 19 c, 47906 Kempen-St. Hubert
END:VEVENT
BEGIN:VEVENT
DTSTAMP:20260424T020044
DTSTART;TZID=Europe/Berlin:20260904T090000
DTEND;TZID=Europe/Berlin:20260904T130000
UID:D476311-20260904T090000@KVHSVIERSEN
SUMMARY:5. Modul - B1 (D476311) 
LOCATION:Begegnungszentrum Johannes-Hubertus-Haus, Hohenzollernplatz 19 c, 47906 Kempen-St. Hubert
END:VEVENT
BEGIN:VEVENT
DTSTAMP:20260424T020044
DTSTART;TZID=Europe/Berlin:20260907T090000
DTEND;TZID=Europe/Berlin:20260907T130000
UID:D476311-20260907T090000@KVHSVIERSEN
SUMMARY:5. Modul - B1 (D476311) 
LOCATION:Begegnungszentrum Johannes-Hubertus-Haus, Hohenzollernplatz 19 c, 47906 Kempen-St. Hubert
END:VEVENT
BEGIN:VEVENT
DTSTAMP:20260424T020044
DTSTART;TZID=Europe/Berlin:20260908T090000
DTEND;TZID=Europe/Berlin:20260908T130000
UID:D476311-20260908T090000@KVHSVIERSEN
SUMMARY:5. Modul - B1 (D476311) 
LOCATION:Begegnungszentrum Johannes-Hubertus-Haus, Hohenzollernplatz 19 c, 47906 Kempen-St. Hubert
END:VEVENT
BEGIN:VEVENT
DTSTAMP:20260424T020044
DTSTART;TZID=Europe/Berlin:20260909T090000
DTEND;TZID=Europe/Berlin:20260909T130000
UID:D476311-20260909T090000@KVHSVIERSEN
SUMMARY:5. Modul - B1 (D476311) 
LOCATION:Begegnungszentrum Johannes-Hubertus-Haus, Hohenzollernplatz 19 c, 47906 Kempen-St. Hubert
END:VEVENT
BEGIN:VEVENT
DTSTAMP:20260424T020044
DTSTART;TZID=Europe/Berlin:20260910T090000
DTEND;TZID=Europe/Berlin:20260910T130000
UID:D476311-20260910T090000@KVHSVIERSEN
SUMMARY:5. Modul - B1 (D476311) 
LOCATION:Begegnungszentrum Johannes-Hubertus-Haus, Hohenzollernplatz 19 c, 47906 Kempen-St. Hubert
END:VEVENT
BEGIN:VEVENT
DTSTAMP:20260424T020044
DTSTART;TZID=Europe/Berlin:20260911T090000
DTEND;TZID=Europe/Berlin:20260911T130000
UID:D476311-20260911T090000@KVHSVIERSEN
SUMMARY:5. Modul - B1 (D476311) 
LOCATION:Begegnungszentrum Johannes-Hubertus-Haus, Hohenzollernplatz 19 c, 47906 Kempen-St. Hubert
END:VEVENT
BEGIN:VEVENT
DTSTAMP:20260424T020044
DTSTART;TZID=Europe/Berlin:20260914T090000
DTEND;TZID=Europe/Berlin:20260914T130000
UID:D476311-20260914T090000@KVHSVIERSEN
SUMMARY:5. Modul - B1 (D476311) 
LOCATION:Begegnungszentrum Johannes-Hubertus-Haus, Hohenzollernplatz 19 c, 47906 Kempen-St. Hubert
END:VEVENT
BEGIN:VEVENT
DTSTAMP:20260424T020044
DTSTART;TZID=Europe/Berlin:20260915T090000
DTEND;TZID=Europe/Berlin:20260915T130000
UID:D476311-20260915T090000@KVHSVIERSEN
SUMMARY:5. Modul - B1 (D476311) 
LOCATION:Begegnungszentrum Johannes-Hubertus-Haus, Hohenzollernplatz 19 c, 47906 Kempen-St. Hubert
END:VEVENT
END:VCALENDAR