BEGIN:VCALENDAR
VERSION:2.0
PRODID:https://www.kufer.de/kuferweb / DE
METHOD:PUBLISH
CALSCALE:GREGORIAN
X-WR-TIMEZONE:Europe/Berlin
BEGIN:VTIMEZONE
TZID:Europe/Berlin
X-LIC-LOCATION:Europe/Berlin
BEGIN:DAYLIGHT
TZOFFSETFROM:+0100
TZOFFSETTO:+0200
TZNAME:CEST
DTSTART:19700329T020000
RRULE:FREQ=YEARLY;INTERVAL=1;BYDAY=-1SU;BYMONTH=3
END:DAYLIGHT
BEGIN:STANDARD
TZOFFSETFROM:+0200
TZOFFSETTO:+0100
TZNAME:CET
DTSTART:19701025T030000
RRULE:FREQ=YEARLY;INTERVAL=1;BYDAY=-1SU;BYMONTH=10
END:STANDARD
END:VTIMEZONE
BEGIN:VEVENT
DTSTAMP:20260421T131534
DTSTART;TZID=Europe/Berlin:20260221T093000
DTEND;TZID=Europe/Berlin:20260221T133000
UID:D484051-20260221T093000@KVHSVIERSEN
SUMMARY:Deutsch B2.1 (D484051) 
LOCATION:VHS-THP, Raum 12, Theodor-Heuss-Platz 10, 41747 Viersen
END:VEVENT
BEGIN:VEVENT
DTSTAMP:20260421T131534
DTSTART;TZID=Europe/Berlin:20260228T093000
DTEND;TZID=Europe/Berlin:20260228T133000
UID:D484051-20260228T093000@KVHSVIERSEN
SUMMARY:Deutsch B2.1 (D484051) 
LOCATION:VHS-THP, Raum 12, Theodor-Heuss-Platz 10, 41747 Viersen
END:VEVENT
BEGIN:VEVENT
DTSTAMP:20260421T131534
DTSTART;TZID=Europe/Berlin:20260307T093000
DTEND;TZID=Europe/Berlin:20260307T133000
UID:D484051-20260307T093000@KVHSVIERSEN
SUMMARY:Deutsch B2.1 (D484051) 
LOCATION:VHS-THP, Raum 12, Theodor-Heuss-Platz 10, 41747 Viersen
END:VEVENT
BEGIN:VEVENT
DTSTAMP:20260421T131534
DTSTART;TZID=Europe/Berlin:20260314T093000
DTEND;TZID=Europe/Berlin:20260314T133000
UID:D484051-20260314T093000@KVHSVIERSEN
SUMMARY:Deutsch B2.1 (D484051) 
LOCATION:VHS-THP, Raum 12, Theodor-Heuss-Platz 10, 41747 Viersen
END:VEVENT
BEGIN:VEVENT
DTSTAMP:20260421T131534
DTSTART;TZID=Europe/Berlin:20260321T093000
DTEND;TZID=Europe/Berlin:20260321T133000
UID:D484051-20260321T093000@KVHSVIERSEN
SUMMARY:Deutsch B2.1 (D484051) 
LOCATION:VHS-THP, Raum 12, Theodor-Heuss-Platz 10, 41747 Viersen
END:VEVENT
BEGIN:VEVENT
DTSTAMP:20260421T131534
DTSTART;TZID=Europe/Berlin:20260328T093000
DTEND;TZID=Europe/Berlin:20260328T133000
UID:D484051-20260328T093000@KVHSVIERSEN
SUMMARY:Deutsch B2.1 (D484051) 
LOCATION:VHS-THP, Raum 12, Theodor-Heuss-Platz 10, 41747 Viersen
END:VEVENT
BEGIN:VEVENT
DTSTAMP:20260421T131534
DTSTART;TZID=Europe/Berlin:20260411T093000
DTEND;TZID=Europe/Berlin:20260411T133000
UID:D484051-20260411T093000@KVHSVIERSEN
DESCRIPTION:TN/DOZ benachrichtigt
SUMMARY:Deutsch B2.1 (D484051) 
LOCATION:VHS-Zentrum, Geb. I, Raum U12, Willy-Brandt-Ring 40, 41747 Viersen
END:VEVENT
BEGIN:VEVENT
DTSTAMP:20260421T131534
DTSTART;TZID=Europe/Berlin:20260418T093000
DTEND;TZID=Europe/Berlin:20260418T133000
UID:D484051-20260418T093000@KVHSVIERSEN
SUMMARY:Deutsch B2.1 (D484051) 
LOCATION:VHS-THP, Raum 12, Theodor-Heuss-Platz 10, 41747 Viersen
END:VEVENT
BEGIN:VEVENT
DTSTAMP:20260421T131534
DTSTART;TZID=Europe/Berlin:20260502T093000
DTEND;TZID=Europe/Berlin:20260502T133000
UID:D484051-20260502T093000@KVHSVIERSEN
SUMMARY:Deutsch B2.1 (D484051) 
LOCATION:VHS-THP, Raum 12, Theodor-Heuss-Platz 10, 41747 Viersen
END:VEVENT
BEGIN:VEVENT
DTSTAMP:20260421T131534
DTSTART;TZID=Europe/Berlin:20260509T093000
DTEND;TZID=Europe/Berlin:20260509T133000
UID:D484051-20260509T093000@KVHSVIERSEN
SUMMARY:Deutsch B2.1 (D484051) 
LOCATION:VHS-THP, Raum 12, Theodor-Heuss-Platz 10, 41747 Viersen
END:VEVENT
END:VCALENDAR