BEGIN:VCALENDAR
VERSION:2.0
PRODID:https://www.kufer.de/kuferweb / DE
METHOD:PUBLISH
CALSCALE:GREGORIAN
X-WR-TIMEZONE:Europe/Berlin
BEGIN:VTIMEZONE
TZID:Europe/Berlin
X-LIC-LOCATION:Europe/Berlin
BEGIN:DAYLIGHT
TZOFFSETFROM:+0100
TZOFFSETTO:+0200
TZNAME:CEST
DTSTART:19700329T020000
RRULE:FREQ=YEARLY;INTERVAL=1;BYDAY=-1SU;BYMONTH=3
END:DAYLIGHT
BEGIN:STANDARD
TZOFFSETFROM:+0200
TZOFFSETTO:+0100
TZNAME:CET
DTSTART:19701025T030000
RRULE:FREQ=YEARLY;INTERVAL=1;BYDAY=-1SU;BYMONTH=10
END:STANDARD
END:VTIMEZONE
BEGIN:VEVENT
DTSTAMP:20260421T150705
DTSTART;TZID=Europe/Berlin:20260211T111500
DTEND;TZID=Europe/Berlin:20260211T124500
UID:D620751-20260211T111500@KVHSVIERSEN
SUMMARY:Zeichnerische Grundlagen Für Fortgeschrittene (D620751) 
LOCATION:VHS-Zentrum, Geb. I, Raum 101, Willy-Brandt-Ring 40, 41747 Viersen
END:VEVENT
BEGIN:VEVENT
DTSTAMP:20260421T150705
DTSTART;TZID=Europe/Berlin:20260218T111500
DTEND;TZID=Europe/Berlin:20260218T124500
UID:D620751-20260218T111500@KVHSVIERSEN
SUMMARY:Zeichnerische Grundlagen Für Fortgeschrittene (D620751) 
LOCATION:VHS-Zentrum, Geb. I, Raum 101, Willy-Brandt-Ring 40, 41747 Viersen
END:VEVENT
BEGIN:VEVENT
DTSTAMP:20260421T150705
DTSTART;TZID=Europe/Berlin:20260225T111500
DTEND;TZID=Europe/Berlin:20260225T124500
UID:D620751-20260225T111500@KVHSVIERSEN
SUMMARY:Zeichnerische Grundlagen Für Fortgeschrittene (D620751) 
LOCATION:VHS-Zentrum, Geb. I, Raum 101, Willy-Brandt-Ring 40, 41747 Viersen
END:VEVENT
BEGIN:VEVENT
DTSTAMP:20260421T150705
DTSTART;TZID=Europe/Berlin:20260304T111500
DTEND;TZID=Europe/Berlin:20260304T124500
UID:D620751-20260304T111500@KVHSVIERSEN
SUMMARY:Zeichnerische Grundlagen Für Fortgeschrittene (D620751) 
LOCATION:VHS-Zentrum, Geb. I, Raum 101, Willy-Brandt-Ring 40, 41747 Viersen
END:VEVENT
BEGIN:VEVENT
DTSTAMP:20260421T150705
DTSTART;TZID=Europe/Berlin:20260311T111500
DTEND;TZID=Europe/Berlin:20260311T124500
UID:D620751-20260311T111500@KVHSVIERSEN
SUMMARY:Zeichnerische Grundlagen Für Fortgeschrittene (D620751) 
LOCATION:VHS-Zentrum, Geb. I, Raum 101, Willy-Brandt-Ring 40, 41747 Viersen
END:VEVENT
BEGIN:VEVENT
DTSTAMP:20260421T150705
DTSTART;TZID=Europe/Berlin:20260318T111500
DTEND;TZID=Europe/Berlin:20260318T124500
UID:D620751-20260318T111500@KVHSVIERSEN
SUMMARY:Zeichnerische Grundlagen Für Fortgeschrittene (D620751) 
LOCATION:VHS-Zentrum, Geb. I, Raum 101, Willy-Brandt-Ring 40, 41747 Viersen
END:VEVENT
BEGIN:VEVENT
DTSTAMP:20260421T150705
DTSTART;TZID=Europe/Berlin:20260325T111500
DTEND;TZID=Europe/Berlin:20260325T124500
UID:D620751-20260325T111500@KVHSVIERSEN
SUMMARY:Zeichnerische Grundlagen Für Fortgeschrittene (D620751) 
LOCATION:VHS-Zentrum, Geb. I, Raum 101, Willy-Brandt-Ring 40, 41747 Viersen
END:VEVENT
BEGIN:VEVENT
DTSTAMP:20260421T150705
DTSTART;TZID=Europe/Berlin:20260415T111500
DTEND;TZID=Europe/Berlin:20260415T124500
UID:D620751-20260415T111500@KVHSVIERSEN
SUMMARY:Zeichnerische Grundlagen Für Fortgeschrittene (D620751) 
LOCATION:VHS-Zentrum, Geb. I, Raum 101, Willy-Brandt-Ring 40, 41747 Viersen
END:VEVENT
BEGIN:VEVENT
DTSTAMP:20260421T150705
DTSTART;TZID=Europe/Berlin:20260422T111500
DTEND;TZID=Europe/Berlin:20260422T124500
UID:D620751-20260422T111500@KVHSVIERSEN
SUMMARY:Zeichnerische Grundlagen Für Fortgeschrittene (D620751) 
LOCATION:VHS-Zentrum, Geb. I, Raum 101, Willy-Brandt-Ring 40, 41747 Viersen
END:VEVENT
BEGIN:VEVENT
DTSTAMP:20260421T150705
DTSTART;TZID=Europe/Berlin:20260429T111500
DTEND;TZID=Europe/Berlin:20260429T124500
UID:D620751-20260429T111500@KVHSVIERSEN
SUMMARY:Zeichnerische Grundlagen Für Fortgeschrittene (D620751) 
LOCATION:VHS-Zentrum, Geb. I, Raum 101, Willy-Brandt-Ring 40, 41747 Viersen
END:VEVENT
END:VCALENDAR