BEGIN:VCALENDAR
VERSION:2.0
PRODID:https://www.kufer.de/kuferweb / DE
METHOD:PUBLISH
CALSCALE:GREGORIAN
X-WR-TIMEZONE:Europe/Berlin
BEGIN:VTIMEZONE
TZID:Europe/Berlin
X-LIC-LOCATION:Europe/Berlin
BEGIN:DAYLIGHT
TZOFFSETFROM:+0100
TZOFFSETTO:+0200
TZNAME:CEST
DTSTART:19700329T020000
RRULE:FREQ=YEARLY;INTERVAL=1;BYDAY=-1SU;BYMONTH=3
END:DAYLIGHT
BEGIN:STANDARD
TZOFFSETFROM:+0200
TZOFFSETTO:+0100
TZNAME:CET
DTSTART:19701025T030000
RRULE:FREQ=YEARLY;INTERVAL=1;BYDAY=-1SU;BYMONTH=10
END:STANDARD
END:VTIMEZONE
BEGIN:VEVENT
DTSTAMP:20260421T150757
DTSTART;TZID=Europe/Berlin:20260720T170000
DTEND;TZID=Europe/Berlin:20260720T191500
UID:D621458-20260720T170000@KVHSVIERSEN
SUMMARY:Summer - Handlettering (3 Termine) Die Kunst des "Schönen Schreibens" (D621458) 
LOCATION:VHS-Zentrum, Geb. I, Raum 101, Willy-Brandt-Ring 40, 41747 Viersen
END:VEVENT
BEGIN:VEVENT
DTSTAMP:20260421T150757
DTSTART;TZID=Europe/Berlin:20260721T170000
DTEND;TZID=Europe/Berlin:20260721T191500
UID:D621458-20260721T170000@KVHSVIERSEN
SUMMARY:Summer - Handlettering (3 Termine) Die Kunst des "Schönen Schreibens" (D621458) 
LOCATION:VHS-Zentrum, Geb. I, Raum 101, Willy-Brandt-Ring 40, 41747 Viersen
END:VEVENT
BEGIN:VEVENT
DTSTAMP:20260421T150757
DTSTART;TZID=Europe/Berlin:20260722T170000
DTEND;TZID=Europe/Berlin:20260722T191500
UID:D621458-20260722T170000@KVHSVIERSEN
SUMMARY:Summer - Handlettering (3 Termine) Die Kunst des "Schönen Schreibens" (D621458) 
LOCATION:VHS-Zentrum, Geb. I, Raum 101, Willy-Brandt-Ring 40, 41747 Viersen
END:VEVENT
END:VCALENDAR