BEGIN:VCALENDAR
VERSION:2.0
PRODID:https://www.kufer.de/kuferweb / DE
METHOD:PUBLISH
CALSCALE:GREGORIAN
X-WR-TIMEZONE:Europe/Berlin
BEGIN:VTIMEZONE
TZID:Europe/Berlin
X-LIC-LOCATION:Europe/Berlin
BEGIN:DAYLIGHT
TZOFFSETFROM:+0100
TZOFFSETTO:+0200
TZNAME:CEST
DTSTART:19700329T020000
RRULE:FREQ=YEARLY;INTERVAL=1;BYDAY=-1SU;BYMONTH=3
END:DAYLIGHT
BEGIN:STANDARD
TZOFFSETFROM:+0200
TZOFFSETTO:+0100
TZNAME:CET
DTSTART:19701025T030000
RRULE:FREQ=YEARLY;INTERVAL=1;BYDAY=-1SU;BYMONTH=10
END:STANDARD
END:VTIMEZONE
BEGIN:VEVENT
DTSTAMP:20260421T150753
DTSTART;TZID=Europe/Berlin:20260506T180000
DTEND;TZID=Europe/Berlin:20260506T201500
UID:D622314-20260506T180000@KVHSVIERSEN
SUMMARY:Acrylmalerei am Mittwoch Acrylmalerei als künstlerischer Ausdruck (D622314) 
LOCATION:TZN Kempen, Kunstraum 1.74 - 1.75 B, Industriering Ost 66, 47906 Kempen
END:VEVENT
BEGIN:VEVENT
DTSTAMP:20260421T150753
DTSTART;TZID=Europe/Berlin:20260513T180000
DTEND;TZID=Europe/Berlin:20260513T201500
UID:D622314-20260513T180000@KVHSVIERSEN
SUMMARY:Acrylmalerei am Mittwoch Acrylmalerei als künstlerischer Ausdruck (D622314) 
LOCATION:TZN Kempen, Kunstraum 1.74 - 1.75 B, Industriering Ost 66, 47906 Kempen
END:VEVENT
BEGIN:VEVENT
DTSTAMP:20260421T150753
DTSTART;TZID=Europe/Berlin:20260520T180000
DTEND;TZID=Europe/Berlin:20260520T201500
UID:D622314-20260520T180000@KVHSVIERSEN
SUMMARY:Acrylmalerei am Mittwoch Acrylmalerei als künstlerischer Ausdruck (D622314) 
LOCATION:TZN Kempen, Kunstraum 1.74 - 1.75 B, Industriering Ost 66, 47906 Kempen
END:VEVENT
BEGIN:VEVENT
DTSTAMP:20260421T150753
DTSTART;TZID=Europe/Berlin:20260527T180000
DTEND;TZID=Europe/Berlin:20260527T201500
UID:D622314-20260527T180000@KVHSVIERSEN
SUMMARY:Acrylmalerei am Mittwoch Acrylmalerei als künstlerischer Ausdruck (D622314) 
LOCATION:TZN Kempen, Kunstraum 1.74 - 1.75 B, Industriering Ost 66, 47906 Kempen
END:VEVENT
BEGIN:VEVENT
DTSTAMP:20260421T150753
DTSTART;TZID=Europe/Berlin:20260603T180000
DTEND;TZID=Europe/Berlin:20260603T201500
UID:D622314-20260603T180000@KVHSVIERSEN
SUMMARY:Acrylmalerei am Mittwoch Acrylmalerei als künstlerischer Ausdruck (D622314) 
LOCATION:TZN Kempen, Kunstraum 1.74 - 1.75 B, Industriering Ost 66, 47906 Kempen
END:VEVENT
BEGIN:VEVENT
DTSTAMP:20260421T150753
DTSTART;TZID=Europe/Berlin:20260610T180000
DTEND;TZID=Europe/Berlin:20260610T201500
UID:D622314-20260610T180000@KVHSVIERSEN
SUMMARY:Acrylmalerei am Mittwoch Acrylmalerei als künstlerischer Ausdruck (D622314) 
LOCATION:TZN Kempen, Kunstraum 1.74 - 1.75 B, Industriering Ost 66, 47906 Kempen
END:VEVENT
END:VCALENDAR