BEGIN:VCALENDAR
VERSION:2.0
PRODID:https://www.kufer.de/kuferweb / DE
METHOD:PUBLISH
CALSCALE:GREGORIAN
X-WR-TIMEZONE:Europe/Berlin
BEGIN:VTIMEZONE
TZID:Europe/Berlin
X-LIC-LOCATION:Europe/Berlin
BEGIN:DAYLIGHT
TZOFFSETFROM:+0100
TZOFFSETTO:+0200
TZNAME:CEST
DTSTART:19700329T020000
RRULE:FREQ=YEARLY;INTERVAL=1;BYDAY=-1SU;BYMONTH=3
END:DAYLIGHT
BEGIN:STANDARD
TZOFFSETFROM:+0200
TZOFFSETTO:+0100
TZNAME:CET
DTSTART:19701025T030000
RRULE:FREQ=YEARLY;INTERVAL=1;BYDAY=-1SU;BYMONTH=10
END:STANDARD
END:VTIMEZONE
BEGIN:VEVENT
DTSTAMP:20260421T150025
DTSTART;TZID=Europe/Berlin:20260224T183000
DTEND;TZID=Europe/Berlin:20260224T204500
UID:D651305-20260224T183000@KVHSVIERSEN
SUMMARY:Kreatives Nähen am Dienstag  Für Anfänger*innen mit Vorkenntnissen und Fortgeschrittene (D651305) 
LOCATION:Schule an der Dorenburg, Geb. A, Raum 1.13 (Textilraum), Burgweg 32, 47929 Grefrath
END:VEVENT
BEGIN:VEVENT
DTSTAMP:20260421T150025
DTSTART;TZID=Europe/Berlin:20260303T183000
DTEND;TZID=Europe/Berlin:20260303T204500
UID:D651305-20260303T183000@KVHSVIERSEN
SUMMARY:Kreatives Nähen am Dienstag  Für Anfänger*innen mit Vorkenntnissen und Fortgeschrittene (D651305) 
LOCATION:Schule an der Dorenburg, Geb. A, Raum 1.13 (Textilraum), Burgweg 32, 47929 Grefrath
END:VEVENT
BEGIN:VEVENT
DTSTAMP:20260421T150025
DTSTART;TZID=Europe/Berlin:20260310T183000
DTEND;TZID=Europe/Berlin:20260310T204500
UID:D651305-20260310T183000@KVHSVIERSEN
SUMMARY:Kreatives Nähen am Dienstag  Für Anfänger*innen mit Vorkenntnissen und Fortgeschrittene (D651305) 
LOCATION:Schule an der Dorenburg, Geb. A, Raum 1.13 (Textilraum), Burgweg 32, 47929 Grefrath
END:VEVENT
BEGIN:VEVENT
DTSTAMP:20260421T150025
DTSTART;TZID=Europe/Berlin:20260317T183000
DTEND;TZID=Europe/Berlin:20260317T204500
UID:D651305-20260317T183000@KVHSVIERSEN
SUMMARY:Kreatives Nähen am Dienstag  Für Anfänger*innen mit Vorkenntnissen und Fortgeschrittene (D651305) 
LOCATION:Schule an der Dorenburg, Geb. A, Raum 1.13 (Textilraum), Burgweg 32, 47929 Grefrath
END:VEVENT
BEGIN:VEVENT
DTSTAMP:20260421T150025
DTSTART;TZID=Europe/Berlin:20260324T183000
DTEND;TZID=Europe/Berlin:20260324T204500
UID:D651305-20260324T183000@KVHSVIERSEN
SUMMARY:Kreatives Nähen am Dienstag  Für Anfänger*innen mit Vorkenntnissen und Fortgeschrittene (D651305) 
LOCATION:Schule an der Dorenburg, Geb. A, Raum 1.13 (Textilraum), Burgweg 32, 47929 Grefrath
END:VEVENT
BEGIN:VEVENT
DTSTAMP:20260421T150025
DTSTART;TZID=Europe/Berlin:20260414T183000
DTEND;TZID=Europe/Berlin:20260414T204500
UID:D651305-20260414T183000@KVHSVIERSEN
SUMMARY:Kreatives Nähen am Dienstag  Für Anfänger*innen mit Vorkenntnissen und Fortgeschrittene (D651305) 
LOCATION:Schule an der Dorenburg, Geb. A, Raum 1.13 (Textilraum), Burgweg 32, 47929 Grefrath
END:VEVENT
BEGIN:VEVENT
DTSTAMP:20260421T150025
DTSTART;TZID=Europe/Berlin:20260421T183000
DTEND;TZID=Europe/Berlin:20260421T204500
UID:D651305-20260421T183000@KVHSVIERSEN
SUMMARY:Kreatives Nähen am Dienstag  Für Anfänger*innen mit Vorkenntnissen und Fortgeschrittene (D651305) 
LOCATION:Schule an der Dorenburg, Geb. A, Raum 1.13 (Textilraum), Burgweg 32, 47929 Grefrath
END:VEVENT
BEGIN:VEVENT
DTSTAMP:20260421T150025
DTSTART;TZID=Europe/Berlin:20260428T183000
DTEND;TZID=Europe/Berlin:20260428T204500
UID:D651305-20260428T183000@KVHSVIERSEN
SUMMARY:Kreatives Nähen am Dienstag  Für Anfänger*innen mit Vorkenntnissen und Fortgeschrittene (D651305) 
LOCATION:Schule an der Dorenburg, Geb. A, Raum 1.13 (Textilraum), Burgweg 32, 47929 Grefrath
END:VEVENT
BEGIN:VEVENT
DTSTAMP:20260421T150025
DTSTART;TZID=Europe/Berlin:20260602T183000
DTEND;TZID=Europe/Berlin:20260602T204500
UID:D651305-20260602T183000@KVHSVIERSEN
SUMMARY:Kreatives Nähen am Dienstag  Für Anfänger*innen mit Vorkenntnissen und Fortgeschrittene (D651305) 
LOCATION:Schule an der Dorenburg, Geb. A, Raum 1.13 (Textilraum), Burgweg 32, 47929 Grefrath
END:VEVENT
BEGIN:VEVENT
DTSTAMP:20260421T150025
DTSTART;TZID=Europe/Berlin:20260609T183000
DTEND;TZID=Europe/Berlin:20260609T204500
UID:D651305-20260609T183000@KVHSVIERSEN
SUMMARY:Kreatives Nähen am Dienstag  Für Anfänger*innen mit Vorkenntnissen und Fortgeschrittene (D651305) 
LOCATION:Schule an der Dorenburg, Geb. A, Raum 1.13 (Textilraum), Burgweg 32, 47929 Grefrath
END:VEVENT
END:VCALENDAR