BEGIN:VCALENDAR
VERSION:2.0
PRODID:https://www.kufer.de/kuferweb / DE
METHOD:PUBLISH
CALSCALE:GREGORIAN
X-WR-TIMEZONE:Europe/Berlin
BEGIN:VTIMEZONE
TZID:Europe/Berlin
X-LIC-LOCATION:Europe/Berlin
BEGIN:DAYLIGHT
TZOFFSETFROM:+0100
TZOFFSETTO:+0200
TZNAME:CEST
DTSTART:19700329T020000
RRULE:FREQ=YEARLY;INTERVAL=1;BYDAY=-1SU;BYMONTH=3
END:DAYLIGHT
BEGIN:STANDARD
TZOFFSETFROM:+0200
TZOFFSETTO:+0100
TZNAME:CET
DTSTART:19701025T030000
RRULE:FREQ=YEARLY;INTERVAL=1;BYDAY=-1SU;BYMONTH=10
END:STANDARD
END:VTIMEZONE
BEGIN:VEVENT
DTSTAMP:20260424T020229
DTSTART;TZID=Europe/Berlin:20260917T090000
DTEND;TZID=Europe/Berlin:20260917T130000
UID:E477011-20260917T090000@KVHSVIERSEN
SUMMARY:6. Modul - B1 (E477011) 
LOCATION:Begegnungszentrum Johannes-Hubertus-Haus, Hohenzollernplatz 19 c, 47906 Kempen-St. Hubert
END:VEVENT
BEGIN:VEVENT
DTSTAMP:20260424T020229
DTSTART;TZID=Europe/Berlin:20260918T090000
DTEND;TZID=Europe/Berlin:20260918T130000
UID:E477011-20260918T090000@KVHSVIERSEN
SUMMARY:6. Modul - B1 (E477011) 
LOCATION:Begegnungszentrum Johannes-Hubertus-Haus, Hohenzollernplatz 19 c, 47906 Kempen-St. Hubert
END:VEVENT
BEGIN:VEVENT
DTSTAMP:20260424T020229
DTSTART;TZID=Europe/Berlin:20260921T090000
DTEND;TZID=Europe/Berlin:20260921T130000
UID:E477011-20260921T090000@KVHSVIERSEN
SUMMARY:6. Modul - B1 (E477011) 
LOCATION:Begegnungszentrum Johannes-Hubertus-Haus, Hohenzollernplatz 19 c, 47906 Kempen-St. Hubert
END:VEVENT
BEGIN:VEVENT
DTSTAMP:20260424T020229
DTSTART;TZID=Europe/Berlin:20260922T090000
DTEND;TZID=Europe/Berlin:20260922T130000
UID:E477011-20260922T090000@KVHSVIERSEN
SUMMARY:6. Modul - B1 (E477011) 
LOCATION:Begegnungszentrum Johannes-Hubertus-Haus, Hohenzollernplatz 19 c, 47906 Kempen-St. Hubert
END:VEVENT
BEGIN:VEVENT
DTSTAMP:20260424T020229
DTSTART;TZID=Europe/Berlin:20260923T090000
DTEND;TZID=Europe/Berlin:20260923T130000
UID:E477011-20260923T090000@KVHSVIERSEN
SUMMARY:6. Modul - B1 (E477011) 
LOCATION:Begegnungszentrum Johannes-Hubertus-Haus, Hohenzollernplatz 19 c, 47906 Kempen-St. Hubert
END:VEVENT
BEGIN:VEVENT
DTSTAMP:20260424T020229
DTSTART;TZID=Europe/Berlin:20260924T090000
DTEND;TZID=Europe/Berlin:20260924T130000
UID:E477011-20260924T090000@KVHSVIERSEN
SUMMARY:6. Modul - B1 (E477011) 
LOCATION:Begegnungszentrum Johannes-Hubertus-Haus, Hohenzollernplatz 19 c, 47906 Kempen-St. Hubert
END:VEVENT
BEGIN:VEVENT
DTSTAMP:20260424T020229
DTSTART;TZID=Europe/Berlin:20260925T090000
DTEND;TZID=Europe/Berlin:20260925T130000
UID:E477011-20260925T090000@KVHSVIERSEN
SUMMARY:6. Modul - B1 (E477011) 
LOCATION:Begegnungszentrum Johannes-Hubertus-Haus, Hohenzollernplatz 19 c, 47906 Kempen-St. Hubert
END:VEVENT
BEGIN:VEVENT
DTSTAMP:20260424T020229
DTSTART;TZID=Europe/Berlin:20260928T090000
DTEND;TZID=Europe/Berlin:20260928T130000
UID:E477011-20260928T090000@KVHSVIERSEN
SUMMARY:6. Modul - B1 (E477011) 
LOCATION:Begegnungszentrum Johannes-Hubertus-Haus, Hohenzollernplatz 19 c, 47906 Kempen-St. Hubert
END:VEVENT
BEGIN:VEVENT
DTSTAMP:20260424T020229
DTSTART;TZID=Europe/Berlin:20260929T090000
DTEND;TZID=Europe/Berlin:20260929T130000
UID:E477011-20260929T090000@KVHSVIERSEN
SUMMARY:6. Modul - B1 (E477011) 
LOCATION:Begegnungszentrum Johannes-Hubertus-Haus, Hohenzollernplatz 19 c, 47906 Kempen-St. Hubert
END:VEVENT
BEGIN:VEVENT
DTSTAMP:20260424T020229
DTSTART;TZID=Europe/Berlin:20260930T090000
DTEND;TZID=Europe/Berlin:20260930T130000
UID:E477011-20260930T090000@KVHSVIERSEN
SUMMARY:6. Modul - B1 (E477011) 
LOCATION:Begegnungszentrum Johannes-Hubertus-Haus, Hohenzollernplatz 19 c, 47906 Kempen-St. Hubert
END:VEVENT
BEGIN:VEVENT
DTSTAMP:20260424T020229
DTSTART;TZID=Europe/Berlin:20261001T090000
DTEND;TZID=Europe/Berlin:20261001T130000
UID:E477011-20261001T090000@KVHSVIERSEN
SUMMARY:6. Modul - B1 (E477011) 
LOCATION:Begegnungszentrum Johannes-Hubertus-Haus, Hohenzollernplatz 19 c, 47906 Kempen-St. Hubert
END:VEVENT
BEGIN:VEVENT
DTSTAMP:20260424T020229
DTSTART;TZID=Europe/Berlin:20261002T090000
DTEND;TZID=Europe/Berlin:20261002T130000
UID:E477011-20261002T090000@KVHSVIERSEN
SUMMARY:6. Modul - B1 (E477011) 
LOCATION:Begegnungszentrum Johannes-Hubertus-Haus, Hohenzollernplatz 19 c, 47906 Kempen-St. Hubert
END:VEVENT
BEGIN:VEVENT
DTSTAMP:20260424T020229
DTSTART;TZID=Europe/Berlin:20261005T090000
DTEND;TZID=Europe/Berlin:20261005T130000
UID:E477011-20261005T090000@KVHSVIERSEN
SUMMARY:6. Modul - B1 (E477011) 
LOCATION:Begegnungszentrum Johannes-Hubertus-Haus, Hohenzollernplatz 19 c, 47906 Kempen-St. Hubert
END:VEVENT
BEGIN:VEVENT
DTSTAMP:20260424T020229
DTSTART;TZID=Europe/Berlin:20261006T090000
DTEND;TZID=Europe/Berlin:20261006T130000
UID:E477011-20261006T090000@KVHSVIERSEN
SUMMARY:6. Modul - B1 (E477011) 
LOCATION:Begegnungszentrum Johannes-Hubertus-Haus, Hohenzollernplatz 19 c, 47906 Kempen-St. Hubert
END:VEVENT
BEGIN:VEVENT
DTSTAMP:20260424T020229
DTSTART;TZID=Europe/Berlin:20261007T090000
DTEND;TZID=Europe/Berlin:20261007T130000
UID:E477011-20261007T090000@KVHSVIERSEN
SUMMARY:6. Modul - B1 (E477011) 
LOCATION:Begegnungszentrum Johannes-Hubertus-Haus, Hohenzollernplatz 19 c, 47906 Kempen-St. Hubert
END:VEVENT
BEGIN:VEVENT
DTSTAMP:20260424T020229
DTSTART;TZID=Europe/Berlin:20261008T090000
DTEND;TZID=Europe/Berlin:20261008T130000
UID:E477011-20261008T090000@KVHSVIERSEN
SUMMARY:6. Modul - B1 (E477011) 
LOCATION:Begegnungszentrum Johannes-Hubertus-Haus, Hohenzollernplatz 19 c, 47906 Kempen-St. Hubert
END:VEVENT
BEGIN:VEVENT
DTSTAMP:20260424T020229
DTSTART;TZID=Europe/Berlin:20261009T090000
DTEND;TZID=Europe/Berlin:20261009T130000
UID:E477011-20261009T090000@KVHSVIERSEN
SUMMARY:6. Modul - B1 (E477011) 
LOCATION:Begegnungszentrum Johannes-Hubertus-Haus, Hohenzollernplatz 19 c, 47906 Kempen-St. Hubert
END:VEVENT
BEGIN:VEVENT
DTSTAMP:20260424T020229
DTSTART;TZID=Europe/Berlin:20261012T090000
DTEND;TZID=Europe/Berlin:20261012T130000
UID:E477011-20261012T090000@KVHSVIERSEN
SUMMARY:6. Modul - B1 (E477011) 
LOCATION:Begegnungszentrum Johannes-Hubertus-Haus, Hohenzollernplatz 19 c, 47906 Kempen-St. Hubert
END:VEVENT
BEGIN:VEVENT
DTSTAMP:20260424T020229
DTSTART;TZID=Europe/Berlin:20261013T090000
DTEND;TZID=Europe/Berlin:20261013T130000
UID:E477011-20261013T090000@KVHSVIERSEN
SUMMARY:6. Modul - B1 (E477011) 
LOCATION:Begegnungszentrum Johannes-Hubertus-Haus, Hohenzollernplatz 19 c, 47906 Kempen-St. Hubert
END:VEVENT
BEGIN:VEVENT
DTSTAMP:20260424T020229
DTSTART;TZID=Europe/Berlin:20261014T090000
DTEND;TZID=Europe/Berlin:20261014T130000
UID:E477011-20261014T090000@KVHSVIERSEN
SUMMARY:6. Modul - B1 (E477011) 
LOCATION:Begegnungszentrum Johannes-Hubertus-Haus, Hohenzollernplatz 19 c, 47906 Kempen-St. Hubert
END:VEVENT
END:VCALENDAR