BEGIN:VCALENDAR
VERSION:2.0
PRODID:https://www.kufer.de/kuferweb / DE
METHOD:PUBLISH
CALSCALE:GREGORIAN
X-WR-TIMEZONE:Europe/Berlin
BEGIN:VTIMEZONE
TZID:Europe/Berlin
X-LIC-LOCATION:Europe/Berlin
BEGIN:DAYLIGHT
TZOFFSETFROM:+0100
TZOFFSETTO:+0200
TZNAME:CEST
DTSTART:19700329T020000
RRULE:FREQ=YEARLY;INTERVAL=1;BYDAY=-1SU;BYMONTH=3
END:DAYLIGHT
BEGIN:STANDARD
TZOFFSETFROM:+0200
TZOFFSETTO:+0100
TZNAME:CET
DTSTART:19701025T030000
RRULE:FREQ=YEARLY;INTERVAL=1;BYDAY=-1SU;BYMONTH=10
END:STANDARD
END:VTIMEZONE
BEGIN:VEVENT
DTSTAMP:20260424T020545
DTSTART;TZID=Europe/Berlin:20261102T090000
DTEND;TZID=Europe/Berlin:20261102T130000
UID:E478111-20261102T090000@KVHSVIERSEN
SUMMARY:7. Modul - Orientierungskurs (E478111) 
LOCATION:Begegnungszentrum Johannes-Hubertus-Haus, Hohenzollernplatz 19 c, 47906 Kempen-St. Hubert
END:VEVENT
BEGIN:VEVENT
DTSTAMP:20260424T020545
DTSTART;TZID=Europe/Berlin:20261103T090000
DTEND;TZID=Europe/Berlin:20261103T130000
UID:E478111-20261103T090000@KVHSVIERSEN
SUMMARY:7. Modul - Orientierungskurs (E478111) 
LOCATION:Begegnungszentrum Johannes-Hubertus-Haus, Hohenzollernplatz 19 c, 47906 Kempen-St. Hubert
END:VEVENT
BEGIN:VEVENT
DTSTAMP:20260424T020545
DTSTART;TZID=Europe/Berlin:20261104T090000
DTEND;TZID=Europe/Berlin:20261104T130000
UID:E478111-20261104T090000@KVHSVIERSEN
SUMMARY:7. Modul - Orientierungskurs (E478111) 
LOCATION:Begegnungszentrum Johannes-Hubertus-Haus, Hohenzollernplatz 19 c, 47906 Kempen-St. Hubert
END:VEVENT
BEGIN:VEVENT
DTSTAMP:20260424T020545
DTSTART;TZID=Europe/Berlin:20261105T090000
DTEND;TZID=Europe/Berlin:20261105T130000
UID:E478111-20261105T090000@KVHSVIERSEN
SUMMARY:7. Modul - Orientierungskurs (E478111) 
LOCATION:Begegnungszentrum Johannes-Hubertus-Haus, Hohenzollernplatz 19 c, 47906 Kempen-St. Hubert
END:VEVENT
BEGIN:VEVENT
DTSTAMP:20260424T020545
DTSTART;TZID=Europe/Berlin:20261106T090000
DTEND;TZID=Europe/Berlin:20261106T130000
UID:E478111-20261106T090000@KVHSVIERSEN
SUMMARY:7. Modul - Orientierungskurs (E478111) 
LOCATION:Begegnungszentrum Johannes-Hubertus-Haus, Hohenzollernplatz 19 c, 47906 Kempen-St. Hubert
END:VEVENT
BEGIN:VEVENT
DTSTAMP:20260424T020545
DTSTART;TZID=Europe/Berlin:20261109T090000
DTEND;TZID=Europe/Berlin:20261109T130000
UID:E478111-20261109T090000@KVHSVIERSEN
SUMMARY:7. Modul - Orientierungskurs (E478111) 
LOCATION:Begegnungszentrum Johannes-Hubertus-Haus, Hohenzollernplatz 19 c, 47906 Kempen-St. Hubert
END:VEVENT
BEGIN:VEVENT
DTSTAMP:20260424T020545
DTSTART;TZID=Europe/Berlin:20261110T090000
DTEND;TZID=Europe/Berlin:20261110T130000
UID:E478111-20261110T090000@KVHSVIERSEN
SUMMARY:7. Modul - Orientierungskurs (E478111) 
LOCATION:Begegnungszentrum Johannes-Hubertus-Haus, Hohenzollernplatz 19 c, 47906 Kempen-St. Hubert
END:VEVENT
BEGIN:VEVENT
DTSTAMP:20260424T020545
DTSTART;TZID=Europe/Berlin:20261111T090000
DTEND;TZID=Europe/Berlin:20261111T130000
UID:E478111-20261111T090000@KVHSVIERSEN
SUMMARY:7. Modul - Orientierungskurs (E478111) 
LOCATION:Begegnungszentrum Johannes-Hubertus-Haus, Hohenzollernplatz 19 c, 47906 Kempen-St. Hubert
END:VEVENT
BEGIN:VEVENT
DTSTAMP:20260424T020545
DTSTART;TZID=Europe/Berlin:20261112T090000
DTEND;TZID=Europe/Berlin:20261112T130000
UID:E478111-20261112T090000@KVHSVIERSEN
SUMMARY:7. Modul - Orientierungskurs (E478111) 
LOCATION:Begegnungszentrum Johannes-Hubertus-Haus, Hohenzollernplatz 19 c, 47906 Kempen-St. Hubert
END:VEVENT
BEGIN:VEVENT
DTSTAMP:20260424T020545
DTSTART;TZID=Europe/Berlin:20261113T090000
DTEND;TZID=Europe/Berlin:20261113T130000
UID:E478111-20261113T090000@KVHSVIERSEN
SUMMARY:7. Modul - Orientierungskurs (E478111) 
LOCATION:Begegnungszentrum Johannes-Hubertus-Haus, Hohenzollernplatz 19 c, 47906 Kempen-St. Hubert
END:VEVENT
BEGIN:VEVENT
DTSTAMP:20260424T020545
DTSTART;TZID=Europe/Berlin:20261116T090000
DTEND;TZID=Europe/Berlin:20261116T130000
UID:E478111-20261116T090000@KVHSVIERSEN
SUMMARY:7. Modul - Orientierungskurs (E478111) 
LOCATION:Begegnungszentrum Johannes-Hubertus-Haus, Hohenzollernplatz 19 c, 47906 Kempen-St. Hubert
END:VEVENT
BEGIN:VEVENT
DTSTAMP:20260424T020545
DTSTART;TZID=Europe/Berlin:20261117T090000
DTEND;TZID=Europe/Berlin:20261117T130000
UID:E478111-20261117T090000@KVHSVIERSEN
SUMMARY:7. Modul - Orientierungskurs (E478111) 
LOCATION:Begegnungszentrum Johannes-Hubertus-Haus, Hohenzollernplatz 19 c, 47906 Kempen-St. Hubert
END:VEVENT
BEGIN:VEVENT
DTSTAMP:20260424T020545
DTSTART;TZID=Europe/Berlin:20261118T090000
DTEND;TZID=Europe/Berlin:20261118T130000
UID:E478111-20261118T090000@KVHSVIERSEN
SUMMARY:7. Modul - Orientierungskurs (E478111) 
LOCATION:Begegnungszentrum Johannes-Hubertus-Haus, Hohenzollernplatz 19 c, 47906 Kempen-St. Hubert
END:VEVENT
BEGIN:VEVENT
DTSTAMP:20260424T020545
DTSTART;TZID=Europe/Berlin:20261119T090000
DTEND;TZID=Europe/Berlin:20261119T130000
UID:E478111-20261119T090000@KVHSVIERSEN
SUMMARY:7. Modul - Orientierungskurs (E478111) 
LOCATION:Begegnungszentrum Johannes-Hubertus-Haus, Hohenzollernplatz 19 c, 47906 Kempen-St. Hubert
END:VEVENT
BEGIN:VEVENT
DTSTAMP:20260424T020545
DTSTART;TZID=Europe/Berlin:20261120T090000
DTEND;TZID=Europe/Berlin:20261120T130000
UID:E478111-20261120T090000@KVHSVIERSEN
SUMMARY:7. Modul - Orientierungskurs (E478111) 
LOCATION:Begegnungszentrum Johannes-Hubertus-Haus, Hohenzollernplatz 19 c, 47906 Kempen-St. Hubert
END:VEVENT
BEGIN:VEVENT
DTSTAMP:20260424T020545
DTSTART;TZID=Europe/Berlin:20261123T090000
DTEND;TZID=Europe/Berlin:20261123T130000
UID:E478111-20261123T090000@KVHSVIERSEN
SUMMARY:7. Modul - Orientierungskurs (E478111) 
LOCATION:Begegnungszentrum Johannes-Hubertus-Haus, Hohenzollernplatz 19 c, 47906 Kempen-St. Hubert
END:VEVENT
BEGIN:VEVENT
DTSTAMP:20260424T020545
DTSTART;TZID=Europe/Berlin:20261124T090000
DTEND;TZID=Europe/Berlin:20261124T130000
UID:E478111-20261124T090000@KVHSVIERSEN
SUMMARY:7. Modul - Orientierungskurs (E478111) 
LOCATION:Begegnungszentrum Johannes-Hubertus-Haus, Hohenzollernplatz 19 c, 47906 Kempen-St. Hubert
END:VEVENT
BEGIN:VEVENT
DTSTAMP:20260424T020545
DTSTART;TZID=Europe/Berlin:20261125T090000
DTEND;TZID=Europe/Berlin:20261125T130000
UID:E478111-20261125T090000@KVHSVIERSEN
SUMMARY:7. Modul - Orientierungskurs (E478111) 
LOCATION:Begegnungszentrum Johannes-Hubertus-Haus, Hohenzollernplatz 19 c, 47906 Kempen-St. Hubert
END:VEVENT
BEGIN:VEVENT
DTSTAMP:20260424T020545
DTSTART;TZID=Europe/Berlin:20261126T090000
DTEND;TZID=Europe/Berlin:20261126T130000
UID:E478111-20261126T090000@KVHSVIERSEN
SUMMARY:7. Modul - Orientierungskurs (E478111) 
LOCATION:Begegnungszentrum Johannes-Hubertus-Haus, Hohenzollernplatz 19 c, 47906 Kempen-St. Hubert
END:VEVENT
BEGIN:VEVENT
DTSTAMP:20260424T020545
DTSTART;TZID=Europe/Berlin:20261127T090000
DTEND;TZID=Europe/Berlin:20261127T130000
UID:E478111-20261127T090000@KVHSVIERSEN
SUMMARY:7. Modul - Orientierungskurs (E478111) 
LOCATION:Begegnungszentrum Johannes-Hubertus-Haus, Hohenzollernplatz 19 c, 47906 Kempen-St. Hubert
END:VEVENT
END:VCALENDAR